BEGIN:VCALENDAR
PRODID:-//SINGPromos.com//NONSGML v1.0//EN
VERSION:2.0
CALSCALE:GREGORIAN
METHOD:PUBLISH
X-WR-CALNAME:SINGPromos.com
X-ORIGINAL-URL:https://singpromos.com
X-WR-CALDESC:Events for SINGPromos.com
BEGIN:VEVENT
DTSTART:20230721T000000
DTEND:20230723T235900
DTSTAMP:20260422T082309
CREATED:20230721T033132
LAST-MODIFIED:20230721T003841
UID:268999@https://singpromos.com
SUMMARY:Watsons S'pore offering 20% off with min $38 spend across nine categories till 23 Jul 2023
DESCRIPTION:Applies to regular-priced items, exclusions apply. For more information, visit [ https://singpromos.com/department-stores/watsons-spore-offering-20-off-with-min-38-spend-across-nine-categories-till-23-jul-2023-268999/ ]. 
LOCATION:
URL:https://singpromos.com/department-stores/watsons-spore-offering-20-off-with-min-38-spend-across-nine-categories-till-23-jul-2023-268999/
END:VEVENT
END:VCALENDAR