BEGIN:VCALENDAR
PRODID:-//SINGPromos.com//NONSGML v1.0//EN
VERSION:2.0
CALSCALE:GREGORIAN
METHOD:PUBLISH
X-WR-CALNAME:SINGPromos.com
X-ORIGINAL-URL:https://singpromos.com
X-WR-CALDESC:Events for SINGPromos.com
BEGIN:VEVENT
DTSTART:20230726T000000
DTEND:20230817T235900
DTSTAMP:20260422T073045
CREATED:20230727T144604
LAST-MODIFIED:20230727T144604
UID:269133@https://singpromos.com
SUMMARY:Samsung S'pore Galaxy Z Fold5 & Flip Online Exclusive Pre-Order offers till 17 August 2023
DESCRIPTION:Pre-order now and enjoy exclusive offers. For more information, visit [ https://singpromos.com/mobile-phones/samsung-spore-galaxy-z-fold5-flip-online-exclusive-pre-order-offers-till-17-august-2023-269133/ ]. 
LOCATION:
URL:https://singpromos.com/mobile-phones/samsung-spore-galaxy-z-fold5-flip-online-exclusive-pre-order-offers-till-17-august-2023-269133/
END:VEVENT
END:VCALENDAR