BEGIN:VCALENDAR
PRODID:-//SINGPromos.com//NONSGML v1.0//EN
VERSION:2.0
CALSCALE:GREGORIAN
METHOD:PUBLISH
X-WR-CALNAME:SINGPromos.com
X-ORIGINAL-URL:https://singpromos.com
X-WR-CALDESC:Events for SINGPromos.com
BEGIN:VEVENT
DTSTART:20230801T000000
DTEND:20230806T235900
DTSTAMP:20260422T082233
CREATED:20230801T014437
LAST-MODIFIED:20230801T021648
UID:269239@https://singpromos.com
SUMMARY:Nike S'pore offers 30% off selected items with this Member Days sale promo code till 6 Aug 2023
DESCRIPTION:The wait is over, Member Days is here. For more information, visit [ https://singpromos.com/department-stores/nike-spore-offers-30-off-selected-items-with-this-member-days-sale-promo-code-till-6-aug-2023-269239/ ]. 
LOCATION:
URL:https://singpromos.com/department-stores/nike-spore-offers-30-off-selected-items-with-this-member-days-sale-promo-code-till-6-aug-2023-269239/
END:VEVENT
END:VCALENDAR