BEGIN:VCALENDAR
PRODID:-//SINGPromos.com//NONSGML v1.0//EN
VERSION:2.0
CALSCALE:GREGORIAN
METHOD:PUBLISH
X-WR-CALNAME:SINGPromos.com
X-ORIGINAL-URL:https://singpromos.com
X-WR-CALDESC:Events for SINGPromos.com
BEGIN:VEVENT
DTSTART:20230801T000000
DTEND:20230801T235900
DTSTAMP:20260422T073830
CREATED:20230801T121052
LAST-MODIFIED:20230801T121126
UID:269257@https://singpromos.com
SUMMARY:Scoot S'pore offers fares from S$68 to over 30 destinations in one-day sale till 1 Aug 2023, 8pm
DESCRIPTION:Scoot to Taipei, Amritsar, Balikpapan and more for travel up to 6 March 2024. For more information, visit [ https://singpromos.com/airlines-flights/scoot-spore-offers-fares-from-s68-to-over-30-destinations-in-one-day-sale-till-1-aug-2023-8pm-269257/ ]. 
LOCATION:
URL:https://singpromos.com/airlines-flights/scoot-spore-offers-fares-from-s68-to-over-30-destinations-in-one-day-sale-till-1-aug-2023-8pm-269257/
END:VEVENT
END:VCALENDAR