BEGIN:VCALENDAR
PRODID:-//SINGPromos.com//NONSGML v1.0//EN
VERSION:2.0
CALSCALE:GREGORIAN
METHOD:PUBLISH
X-WR-CALNAME:SINGPromos.com
X-ORIGINAL-URL:https://singpromos.com
X-WR-CALDESC:Events for SINGPromos.com
BEGIN:VEVENT
DTSTART:20230804T000000
DTEND:20230806T235900
DTSTAMP:20260422T063023
CREATED:20230804T152311
LAST-MODIFIED:20230804T152311
UID:269379@https://singpromos.com
SUMMARY:Robinsons S'pore offering up to $60 off with min S$150 spend with these promo codes till 6 Aug 2023
DESCRIPTION:Weekend Flash Sale at Robinsons. For more information, visit [ https://singpromos.com/department-stores/robinsons-spore-offering-up-to-60-off-with-min-s150-spend-with-these-promo-codes-till-6-aug-2023-269379/ ]. 
LOCATION:
URL:https://singpromos.com/department-stores/robinsons-spore-offering-up-to-60-off-with-min-s150-spend-with-these-promo-codes-till-6-aug-2023-269379/
END:VEVENT
END:VCALENDAR