BEGIN:VCALENDAR
PRODID:-//SINGPromos.com//NONSGML v1.0//EN
VERSION:2.0
CALSCALE:GREGORIAN
METHOD:PUBLISH
X-WR-CALNAME:SINGPromos.com
X-ORIGINAL-URL:https://singpromos.com
X-WR-CALDESC:Events for SINGPromos.com
BEGIN:VEVENT
DTSTART:20230810T000000
DTEND:20230907T235900
DTSTAMP:20260420T045005
CREATED:20230810T181518
LAST-MODIFIED:20230905T145510
UID:269573@https://singpromos.com
SUMMARY:Singapore Airlines latest promo has fares fr S$148 to over 50 destinations till 7 Sep, travel up to 31 July 2024
DESCRIPTION:Book by 31 Aug for travel up to 31 July 2024. For more information, visit [ https://singpromos.com/airlines-flights/singapore-airlines-latest-promo-has-fares-fr-s148-to-over-50-destinations-till-31-aug-travel-up-to-31-july-2024-269573/ ]. 
LOCATION:
URL:https://singpromos.com/airlines-flights/singapore-airlines-latest-promo-has-fares-fr-s148-to-over-50-destinations-till-31-aug-travel-up-to-31-july-2024-269573/
END:VEVENT
END:VCALENDAR