BEGIN:VCALENDAR
PRODID:-//SINGPromos.com//NONSGML v1.0//EN
VERSION:2.0
CALSCALE:GREGORIAN
METHOD:PUBLISH
X-WR-CALNAME:SINGPromos.com
X-ORIGINAL-URL:https://singpromos.com
X-WR-CALDESC:Events for SINGPromos.com
BEGIN:VEVENT
DTSTART:20230817T000000
DTEND:20230823T235900
DTSTAMP:20260424T034620
CREATED:20230817T160102
LAST-MODIFIED:20230817T180758
UID:269725@https://singpromos.com
SUMMARY:Giant S'pore selling Haagen Dazs ice cream pints at S$8.33 each when you buy three till 23 Aug 2023
DESCRIPTION:Time to stock up on Haagen Dazs ice cream. For more information, visit [ https://singpromos.com/dining-restaurants-food/giant-spore-selling-haagen-dazs-ice-cream-pints-at-s8-33-each-when-you-buy-three-till-23-aug-2023-269725/ ]. 
LOCATION:
URL:https://singpromos.com/dining-restaurants-food/giant-spore-selling-haagen-dazs-ice-cream-pints-at-s8-33-each-when-you-buy-three-till-23-aug-2023-269725/
END:VEVENT
END:VCALENDAR