BEGIN:VCALENDAR
PRODID:-//SINGPromos.com//NONSGML v1.0//EN
VERSION:2.0
CALSCALE:GREGORIAN
METHOD:PUBLISH
X-WR-CALNAME:SINGPromos.com
X-ORIGINAL-URL:https://singpromos.com
X-WR-CALDESC:Events for SINGPromos.com
BEGIN:VEVENT
DTSTART:20120309T000000
DTEND:20120311T235900
DTSTAMP:20260420T053436
CREATED:20120304T223409
LAST-MODIFIED:20120304T223409
UID:26980@https://singpromos.com
SUMMARY:Cristofori Piano Warehouse Sale Up To 70% Off 9 - 11 Mar 2012
DESCRIPTION:Cristofori is having a piano warehouse sale with up to 70% off from 9 March to 11 March 2012, 10am to 7pm at Blk 3014, Bedok Industrial Park E. For more information, visit [ https://singpromos.com/warehouse-sales/cristofori-piano-warehouse-sale-up-to-70-off-9-11-mar-2012-26980/ ]. 
LOCATION:
URL:https://singpromos.com/warehouse-sales/cristofori-piano-warehouse-sale-up-to-70-off-9-11-mar-2012-26980/
END:VEVENT
END:VCALENDAR