BEGIN:VCALENDAR
PRODID:-//SINGPromos.com//NONSGML v1.0//EN
VERSION:2.0
CALSCALE:GREGORIAN
METHOD:PUBLISH
X-WR-CALNAME:SINGPromos.com
X-ORIGINAL-URL:https://singpromos.com
X-WR-CALDESC:Events for SINGPromos.com
BEGIN:VEVENT
DTSTART:20120303T000000
DTEND:20120309T235900
DTSTAMP:20260424T020705
CREATED:20120303T224556
LAST-MODIFIED:20120304T224634
UID:26989@https://singpromos.com
SUMMARY:Courts Big Brand Sale Promotion 3 - 9 Mar 2012
DESCRIPTION:Courts is now smashing prices on big brands with the new Courts Big Brand Sale.. For more information, visit [ https://singpromos.com/computers-pc/courts-big-brand-sale-promotion-3-9-mar-2012-26989/ ]. 
LOCATION:
URL:https://singpromos.com/computers-pc/courts-big-brand-sale-promotion-3-9-mar-2012-26989/
END:VEVENT
END:VCALENDAR