BEGIN:VCALENDAR
PRODID:-//SINGPromos.com//NONSGML v1.0//EN
VERSION:2.0
CALSCALE:GREGORIAN
METHOD:PUBLISH
X-WR-CALNAME:SINGPromos.com
X-ORIGINAL-URL:https://singpromos.com
X-WR-CALDESC:Events for SINGPromos.com
BEGIN:VEVENT
DTSTART:20230821T000000
DTEND:20230906T235900
DTSTAMP:20260422T082323
CREATED:20230825T131015
LAST-MODIFIED:20230825T131015
UID:269895@https://singpromos.com
SUMMARY:Refash Funan outlet closing down sale till 6 Sep 2023, prices start from S$2.90
DESCRIPTION:Everything must go. For more information, visit [ https://singpromos.com/warehouse-sales/refash-funan-outlet-closing-down-sale-till-6-sep-2023-prices-start-from-s2-90-269895/ ]. 
LOCATION:179105
URL:https://singpromos.com/warehouse-sales/refash-funan-outlet-closing-down-sale-till-6-sep-2023-prices-start-from-s2-90-269895/
END:VEVENT
END:VCALENDAR