BEGIN:VCALENDAR
PRODID:-//SINGPromos.com//NONSGML v1.0//EN
VERSION:2.0
CALSCALE:GREGORIAN
METHOD:PUBLISH
X-WR-CALNAME:SINGPromos.com
X-ORIGINAL-URL:https://singpromos.com
X-WR-CALDESC:Events for SINGPromos.com
BEGIN:VEVENT
DTSTART:20230904T000000
DTEND:20230909T235900
DTSTAMP:20260420T055013
CREATED:20230903T160728
LAST-MODIFIED:20230903T165206
UID:270082@https://singpromos.com
SUMMARY:Hokkaido Baked Cheese Tart S'pore offering 1-for-1 Original Cheese Tarts at selected outlets from 4 - 9 Sep 2023
DESCRIPTION:Valid at selected Hokkaido Baked Cheese Tart outlets from 12nn-2pm and 6pm-8pm. For more information, visit [ https://singpromos.com/dining-restaurants-food/hokkaido-baked-cheese-tart-spore-offering-1-for-1-original-cheese-tarts-at-selected-outlets-from-4-9-sep-2023-270082/ ]. 
LOCATION:
URL:https://singpromos.com/dining-restaurants-food/hokkaido-baked-cheese-tart-spore-offering-1-for-1-original-cheese-tarts-at-selected-outlets-from-4-9-sep-2023-270082/
END:VEVENT
END:VCALENDAR