BEGIN:VCALENDAR
PRODID:-//SINGPromos.com//NONSGML v1.0//EN
VERSION:2.0
CALSCALE:GREGORIAN
METHOD:PUBLISH
X-WR-CALNAME:SINGPromos.com
X-ORIGINAL-URL:https://singpromos.com
X-WR-CALDESC:Events for SINGPromos.com
BEGIN:VEVENT
DTSTART:20230923T000000
DTEND:20231002T235900
DTSTAMP:20260419T232315
CREATED:20230923T105754
LAST-MODIFIED:20230923T110301
UID:270736@https://singpromos.com
SUMMARY:GOG.com celebrates 15th anniversary with more than 900 deals as high as 90% off till 2 Oct 2023
DESCRIPTION:No matter your taste in games, you'll for sure find something appealing to enhance your library. For more information, visit [ https://singpromos.com/video-games/gog-com-celebrates-15th-anniversary-with-more-than-900-deals-as-high-as-90-off-till-2-oct-2023-270736/ ]. 
LOCATION:
URL:https://singpromos.com/video-games/gog-com-celebrates-15th-anniversary-with-more-than-900-deals-as-high-as-90-off-till-2-oct-2023-270736/
END:VEVENT
END:VCALENDAR