BEGIN:VCALENDAR
PRODID:-//SINGPromos.com//NONSGML v1.0//EN
VERSION:2.0
CALSCALE:GREGORIAN
METHOD:PUBLISH
X-WR-CALNAME:SINGPromos.com
X-ORIGINAL-URL:https://singpromos.com
X-WR-CALDESC:Events for SINGPromos.com
BEGIN:VEVENT
DTSTART:20230925T000000
DTEND:20230925T235900
DTSTAMP:20260422T082321
CREATED:20230924T163421
LAST-MODIFIED:20230924T164746
UID:270747@https://singpromos.com
SUMMARY:McDonald's S'pore will be offering 1-for-1 Hotcakes on 25 Sep 2023, 4am - 1030am
DESCRIPTION:Fluffy Hotcakes are made all the more heavenly when smothered with syrup and margarine. For more information, visit [ https://singpromos.com/dining-restaurants-food/mcdonalds-spore-will-be-offering-1-for-1-hotcakes-on-25-sep-2023-4am-1030am-270747/ ]. 
LOCATION:
URL:https://singpromos.com/dining-restaurants-food/mcdonalds-spore-will-be-offering-1-for-1-hotcakes-on-25-sep-2023-4am-1030am-270747/
END:VEVENT
END:VCALENDAR