BEGIN:VCALENDAR
PRODID:-//SINGPromos.com//NONSGML v1.0//EN
VERSION:2.0
CALSCALE:GREGORIAN
METHOD:PUBLISH
X-WR-CALNAME:SINGPromos.com
X-ORIGINAL-URL:https://singpromos.com
X-WR-CALDESC:Events for SINGPromos.com
BEGIN:VEVENT
DTSTART:20231001T000000
DTEND:20240102T235900
DTSTAMP:20260420T174036
CREATED:20231001T120412
LAST-MODIFIED:20231001T010504
UID:270987@https://singpromos.com
SUMMARY:S$22 - S$42 (usual up to $68) Gardens by the Bay 1-year all-days unlimited visits membership offer till 2 Jan
DESCRIPTION:$42 (Adult), $38 for senior, $26 for student, $22 for child, family packages also available. For more information, visit [ https://singpromos.com/places-of-interest/s22-s42-usual-up-to-68-gardens-by-the-bay-1-year-all-days-unlimited-visits-membership-offer-till-2-jan-270987/ ]. 
LOCATION:
URL:https://singpromos.com/places-of-interest/s22-s42-usual-up-to-68-gardens-by-the-bay-1-year-all-days-unlimited-visits-membership-offer-till-2-jan-270987/
END:VEVENT
END:VCALENDAR