BEGIN:VCALENDAR
PRODID:-//SINGPromos.com//NONSGML v1.0//EN
VERSION:2.0
CALSCALE:GREGORIAN
METHOD:PUBLISH
X-WR-CALNAME:SINGPromos.com
X-ORIGINAL-URL:https://singpromos.com
X-WR-CALDESC:Events for SINGPromos.com
BEGIN:VEVENT
DTSTART:20231007T000000
DTEND:20231008T235900
DTSTAMP:20260424T025723
CREATED:20231007T125508
LAST-MODIFIED:20231009T201742
UID:271369@https://singpromos.com
SUMMARY:Toyogo Warehouse Sale till 8 Oct 2023
DESCRIPTION:Discounts of over 50% off spotted. For more information, visit [ https://singpromos.com/warehouse-sales/toyogo-warehouse-sale-till-10-oct-2023-271369/ ]. 
LOCATION:319257
URL:https://singpromos.com/warehouse-sales/toyogo-warehouse-sale-till-10-oct-2023-271369/
END:VEVENT
END:VCALENDAR