BEGIN:VCALENDAR
PRODID:-//SINGPromos.com//NONSGML v1.0//EN
VERSION:2.0
CALSCALE:GREGORIAN
METHOD:PUBLISH
X-WR-CALNAME:SINGPromos.com
X-ORIGINAL-URL:https://singpromos.com
X-WR-CALDESC:Events for SINGPromos.com
BEGIN:VEVENT
DTSTART:20231002T000000
DTEND:20231031T235900
DTSTAMP:20260422T081546
CREATED:20231010T015257
LAST-MODIFIED:20231010T015403
UID:271415@https://singpromos.com
SUMMARY:Singapore Disney+ Pricing Plans to increase from Nov 1 2023, lock in 1 year at S$119.98 by 31 Oct 2023
DESCRIPTION:You can lock in 1 year of Disney+ at S$119.98 till end of October 2023, after which the price will start from $$129.98. For more information, visit [ https://singpromos.com/telecoms/singapore-disney-pricing-plans-to-increase-from-nov-1-2023-lock-in-1-year-at-s119-98-by-31-oct-2023-271415/ ]. 
LOCATION:
URL:https://singpromos.com/telecoms/singapore-disney-pricing-plans-to-increase-from-nov-1-2023-lock-in-1-year-at-s119-98-by-31-oct-2023-271415/
END:VEVENT
END:VCALENDAR