BEGIN:VCALENDAR
PRODID:-//SINGPromos.com//NONSGML v1.0//EN
VERSION:2.0
CALSCALE:GREGORIAN
METHOD:PUBLISH
X-WR-CALNAME:SINGPromos.com
X-ORIGINAL-URL:https://singpromos.com
X-WR-CALDESC:Events for SINGPromos.com
BEGIN:VEVENT
DTSTART:20231025T000000
DTEND:20231025T235900
DTSTAMP:20260420T155101
CREATED:20231024T105108
LAST-MODIFIED:20231024T105657
UID:271486@https://singpromos.com
SUMMARY:Yakiniku-GO offering 50% off selected set meals on 25 October 2023
DESCRIPTION:Satisfaction and premium quality meat cuts at affordable prices.. For more information, visit [ https://singpromos.com/dining-restaurants-food/yakiniku-go-offering-50-off-selected-set-meals-on-25-october-2023-271486/ ]. 
LOCATION:
URL:https://singpromos.com/dining-restaurants-food/yakiniku-go-offering-50-off-selected-set-meals-on-25-october-2023-271486/
END:VEVENT
END:VCALENDAR