BEGIN:VCALENDAR
PRODID:-//SINGPromos.com//NONSGML v1.0//EN
VERSION:2.0
CALSCALE:GREGORIAN
METHOD:PUBLISH
X-WR-CALNAME:SINGPromos.com
X-ORIGINAL-URL:https://singpromos.com
X-WR-CALDESC:Events for SINGPromos.com
BEGIN:VEVENT
DTSTART:20231023T000000
DTEND:20231027T235900
DTSTAMP:20260420T005605
CREATED:20231023T163706
LAST-MODIFIED:20231023T170153
UID:271806@https://singpromos.com
SUMMARY:McDonald's S'pore has S$10 Chicken McNuggets (20pc) deal in-stores and via McDelivery till 27 Oct 2023
DESCRIPTION:$10 Chicken McNuggets (20pc) via McDonald's App. For more information, visit [ https://singpromos.com/dining-restaurants-food/mcdonalds-spore-has-s10-chicken-mcnuggets-20pc-deal-in-stores-and-via-mcdelivery-till-27-oct-2023-271806/ ]. 
LOCATION:
URL:https://singpromos.com/dining-restaurants-food/mcdonalds-spore-has-s10-chicken-mcnuggets-20pc-deal-in-stores-and-via-mcdelivery-till-27-oct-2023-271806/
END:VEVENT
END:VCALENDAR