BEGIN:VCALENDAR
PRODID:-//SINGPromos.com//NONSGML v1.0//EN
VERSION:2.0
CALSCALE:GREGORIAN
METHOD:PUBLISH
X-WR-CALNAME:SINGPromos.com
X-ORIGINAL-URL:https://singpromos.com
X-WR-CALDESC:Events for SINGPromos.com
BEGIN:VEVENT
DTSTART:20231025T000000
DTEND:20231029T235900
DTSTAMP:20260422T190410
CREATED:20231025T014122
LAST-MODIFIED:20231025T005750
UID:271857@https://singpromos.com
SUMMARY:adidas collaboration archive styles are going at up to 70% off at S'pore online store till 29 Oct 2023
DESCRIPTION:Access a limited release of select adidas collaboration archive styles. For more information, visit [ https://singpromos.com/fashion-accessories/adidas-collaboration-archive-styles-are-going-at-up-to-70-off-at-spore-online-store-till-29-oct-2023-271857/ ]. 
LOCATION:
URL:https://singpromos.com/fashion-accessories/adidas-collaboration-archive-styles-are-going-at-up-to-70-off-at-spore-online-store-till-29-oct-2023-271857/
END:VEVENT
END:VCALENDAR