BEGIN:VCALENDAR
PRODID:-//SINGPromos.com//NONSGML v1.0//EN
VERSION:2.0
CALSCALE:GREGORIAN
METHOD:PUBLISH
X-WR-CALNAME:SINGPromos.com
X-ORIGINAL-URL:https://singpromos.com
X-WR-CALDESC:Events for SINGPromos.com
BEGIN:VEVENT
DTSTART:20231026T000000
DTEND:20231029T235900
DTSTAMP:20260422T054859
CREATED:20231026T100319
LAST-MODIFIED:20231025T140919
UID:271870@https://singpromos.com
SUMMARY:Bove by Spring Maternity 50% off storewide moving out sale at Wisma Atria till 29 Oct 2023
DESCRIPTION:Applies to all maternity and nursing apparels. For more information, visit [ https://singpromos.com/warehouse-sales/bove-by-spring-maternity-50-off-storewide-moving-out-sale-at-wisma-atria-till-29-oct-2023-271870/ ]. 
LOCATION:238877
URL:https://singpromos.com/warehouse-sales/bove-by-spring-maternity-50-off-storewide-moving-out-sale-at-wisma-atria-till-29-oct-2023-271870/
END:VEVENT
END:VCALENDAR