BEGIN:VCALENDAR
PRODID:-//SINGPromos.com//NONSGML v1.0//EN
VERSION:2.0
CALSCALE:GREGORIAN
METHOD:PUBLISH
X-WR-CALNAME:SINGPromos.com
X-ORIGINAL-URL:https://singpromos.com
X-WR-CALDESC:Events for SINGPromos.com
BEGIN:VEVENT
DTSTART:20231031T000000
DTEND:20231102T235900
DTSTAMP:20260422T204157
CREATED:20231030T171100
LAST-MODIFIED:20231030T171120
UID:272010@https://singpromos.com
SUMMARY:LiHO S'pore has 1 for 1 drink promotion from 31 Oct - 2 Nov as long as you or your friend's name starts with "J"
DESCRIPTION:Alternatively, you can dress up in your best Halloween costume. For more information, visit [ https://singpromos.com/dining-restaurants-food/liho-spore-has-1-for-1-drink-promotion-from-31-oct-2-nov-as-long-as-you-or-your-friends-name-starts-with-j-272010/ ]. 
LOCATION:
URL:https://singpromos.com/dining-restaurants-food/liho-spore-has-1-for-1-drink-promotion-from-31-oct-2-nov-as-long-as-you-or-your-friends-name-starts-with-j-272010/
END:VEVENT
END:VCALENDAR