BEGIN:VCALENDAR
PRODID:-//SINGPromos.com//NONSGML v1.0//EN
VERSION:2.0
CALSCALE:GREGORIAN
METHOD:PUBLISH
X-WR-CALNAME:SINGPromos.com
X-ORIGINAL-URL:https://singpromos.com
X-WR-CALDESC:Events for SINGPromos.com
BEGIN:VEVENT
DTSTART:20231107T000000
DTEND:20231107T235900
DTSTAMP:20260420T043258
CREATED:20231106T111540
LAST-MODIFIED:20231106T123003
UID:272107@https://singpromos.com
SUMMARY:IPPUDO offering Buy-1-Get-1-Free all ramen at Star Vista outlet on Tuesday, 7 Nov 2023
DESCRIPTION:Celebrating first anniversary. For more information, visit [ https://singpromos.com/dining-restaurants-food/ippudo-offering-buy-1-get-1-free-all-ramen-at-star-vista-outlet-on-saturday-7-nov-2023-272107/ ]. 
LOCATION:3C River Valley Road, 179022
URL:https://singpromos.com/dining-restaurants-food/ippudo-offering-buy-1-get-1-free-all-ramen-at-star-vista-outlet-on-saturday-7-nov-2023-272107/
END:VEVENT
END:VCALENDAR