BEGIN:VCALENDAR
PRODID:-//SINGPromos.com//NONSGML v1.0//EN
VERSION:2.0
CALSCALE:GREGORIAN
METHOD:PUBLISH
X-WR-CALNAME:SINGPromos.com
X-ORIGINAL-URL:https://singpromos.com
X-WR-CALDESC:Events for SINGPromos.com
BEGIN:VEVENT
DTSTART:20231117T000000
DTEND:20231119T235900
DTSTAMP:20260420T001625
CREATED:20231116T153507
LAST-MODIFIED:20231116T153548
UID:272651@https://singpromos.com
SUMMARY:Electrolux Warehouse Sale at SAFRA Toa Payoh from 17 - 19 Nov 2023
DESCRIPTION:Beat the upcoming GST hike. For more information, visit [ https://singpromos.com/warehouse-sales/electrolux-warehouse-sale-at-safra-toa-payoh-from-17-19-nov-2023-272651/ ]. 
LOCATION:319387
URL:https://singpromos.com/warehouse-sales/electrolux-warehouse-sale-at-safra-toa-payoh-from-17-19-nov-2023-272651/
END:VEVENT
END:VCALENDAR