BEGIN:VCALENDAR
PRODID:-//SINGPromos.com//NONSGML v1.0//EN
VERSION:2.0
CALSCALE:GREGORIAN
METHOD:PUBLISH
X-WR-CALNAME:SINGPromos.com
X-ORIGINAL-URL:https://singpromos.com
X-WR-CALDESC:Events for SINGPromos.com
BEGIN:VEVENT
DTSTART:20231121T000000
DTEND:20231127T235900
DTSTAMP:20260422T081546
CREATED:20231121T223010
LAST-MODIFIED:20231121T223107
UID:272861@https://singpromos.com
SUMMARY:Robinsons Up to 80% off Black Friday & Cyber Monday Week till 27 Nov 2023
DESCRIPTION:Up to 80% OFF on your favourite picks. For more information, visit [ https://singpromos.com/department-stores/robinsons-up-to-80-off-black-friday-cyber-monday-week-till-27-nov-2023-272861/ ]. 
LOCATION:
URL:https://singpromos.com/department-stores/robinsons-up-to-80-off-black-friday-cyber-monday-week-till-27-nov-2023-272861/
END:VEVENT
END:VCALENDAR