BEGIN:VCALENDAR
PRODID:-//SINGPromos.com//NONSGML v1.0//EN
VERSION:2.0
CALSCALE:GREGORIAN
METHOD:PUBLISH
X-WR-CALNAME:SINGPromos.com
X-ORIGINAL-URL:https://singpromos.com
X-WR-CALDESC:Events for SINGPromos.com
BEGIN:VEVENT
DTSTART:20231122T000000
DTEND:20231204T235900
DTSTAMP:20260422T040151
CREATED:20231122T021711
LAST-MODIFIED:20231122T012445
UID:272871@https://singpromos.com
SUMMARY:Norton S'pore offers up to $55 off selected products Black Friday Cyber Monday promo till 4 Dec 2023
DESCRIPTION:Powerful protection for your devices. For more information, visit [ https://singpromos.com/computers-pc/norton-spore-offers-up-to-55-off-selected-products-black-friday-cyber-monday-promo-till-4-dec-2023-272871/ ]. 
LOCATION:
URL:https://singpromos.com/computers-pc/norton-spore-offers-up-to-55-off-selected-products-black-friday-cyber-monday-promo-till-4-dec-2023-272871/
END:VEVENT
END:VCALENDAR