BEGIN:VCALENDAR
PRODID:-//SINGPromos.com//NONSGML v1.0//EN
VERSION:2.0
CALSCALE:GREGORIAN
METHOD:PUBLISH
X-WR-CALNAME:SINGPromos.com
X-ORIGINAL-URL:https://singpromos.com
X-WR-CALDESC:Events for SINGPromos.com
BEGIN:VEVENT
DTSTART:20231123T000000
DTEND:20231129T235900
DTSTAMP:20260424T020741
CREATED:20231123T200656
LAST-MODIFIED:20231123T201225
UID:272984@https://singpromos.com
SUMMARY:Giant S'pore is selling Ben & Jerry's ice cream at S$10.35 each when you buy two till 29 Nov 2023
DESCRIPTION:Time to stock up on Ben & Jerry's ice cream. For more information, visit [ https://singpromos.com/dining-restaurants-food/giant-spore-is-selling-ben-jerrys-ice-cream-at-s10-35-each-when-you-buy-two-till-29-nov-2023-272984/ ]. 
LOCATION:
URL:https://singpromos.com/dining-restaurants-food/giant-spore-is-selling-ben-jerrys-ice-cream-at-s10-35-each-when-you-buy-two-till-29-nov-2023-272984/
END:VEVENT
END:VCALENDAR