BEGIN:VCALENDAR
PRODID:-//SINGPromos.com//NONSGML v1.0//EN
VERSION:2.0
CALSCALE:GREGORIAN
METHOD:PUBLISH
X-WR-CALNAME:SINGPromos.com
X-ORIGINAL-URL:https://singpromos.com
X-WR-CALDESC:Events for SINGPromos.com
BEGIN:VEVENT
DTSTART:20231205T000000
DTEND:20231220T235900
DTSTAMP:20260424T020704
CREATED:20231205T134558
LAST-MODIFIED:20231205T134558
UID:273298@https://singpromos.com
SUMMARY:Buy $100 Giant S'pore Cash Vouchers and get $10 more when you spend $30 till 20 Dec 2023
DESCRIPTION:More value at Giant. For more information, visit [ https://singpromos.com/department-stores/buy-100-giant-spore-cash-vouchers-and-get-10-more-when-you-spend-30-till-20-dec-2023-273298/ ]. 
LOCATION:
URL:https://singpromos.com/department-stores/buy-100-giant-spore-cash-vouchers-and-get-10-more-when-you-spend-30-till-20-dec-2023-273298/
END:VEVENT
END:VCALENDAR