BEGIN:VCALENDAR
PRODID:-//SINGPromos.com//NONSGML v1.0//EN
VERSION:2.0
CALSCALE:GREGORIAN
METHOD:PUBLISH
X-WR-CALNAME:SINGPromos.com
X-ORIGINAL-URL:https://singpromos.com
X-WR-CALDESC:Events for SINGPromos.com
BEGIN:VEVENT
DTSTART:20231211T000000
DTEND:20231213T235900
DTSTAMP:20260422T082319
CREATED:20231210T184622
LAST-MODIFIED:20231210T191647
UID:273481@https://singpromos.com
SUMMARY:KFC S'pore offering 4pcs of Crispy Chicken and 4 golden nuggets for just $9.90 from 11 - 13 Dec 2023
DESCRIPTION:It's time to treat yourself. For more information, visit [ https://singpromos.com/dining-restaurants-food/kfc-spore-offering-4pcs-of-crispy-chicken-and-4-golden-nuggets-for-just-9-90-from-11-13-dec-2023-273481/ ]. 
LOCATION:
URL:https://singpromos.com/dining-restaurants-food/kfc-spore-offering-4pcs-of-crispy-chicken-and-4-golden-nuggets-for-just-9-90-from-11-13-dec-2023-273481/
END:VEVENT
END:VCALENDAR