BEGIN:VCALENDAR
PRODID:-//SINGPromos.com//NONSGML v1.0//EN
VERSION:2.0
CALSCALE:GREGORIAN
METHOD:PUBLISH
X-WR-CALNAME:SINGPromos.com
X-ORIGINAL-URL:https://singpromos.com
X-WR-CALDESC:Events for SINGPromos.com
BEGIN:VEVENT
DTSTART:20231219T000000
DTEND:20240123T235900
DTSTAMP:20260420T045101
CREATED:20231219T173703
LAST-MODIFIED:20231228T152736
UID:273638@https://singpromos.com
SUMMARY:Singapore Airlines releases new promo fares fr S$168 to over 60 destinations till 23 Jan for travel up to 31 Oct
DESCRIPTION:For travel up to 31 Oct. For more information, visit [ https://singpromos.com/airlines-flights/singapore-airlines-releases-new-promo-fares-fr-s168-to-over-60-destinations-till-23-jan-for-travel-up-to-31-oct-273638/ ]. 
LOCATION:
URL:https://singpromos.com/airlines-flights/singapore-airlines-releases-new-promo-fares-fr-s168-to-over-60-destinations-till-23-jan-for-travel-up-to-31-oct-273638/
END:VEVENT
END:VCALENDAR