BEGIN:VCALENDAR
PRODID:-//SINGPromos.com//NONSGML v1.0//EN
VERSION:2.0
CALSCALE:GREGORIAN
METHOD:PUBLISH
X-WR-CALNAME:SINGPromos.com
X-ORIGINAL-URL:https://singpromos.com
X-WR-CALDESC:Events for SINGPromos.com
BEGIN:VEVENT
DTSTART:20231221T000000
DTEND:20231227T235900
DTSTAMP:20260424T020703
CREATED:20231221T112307
LAST-MODIFIED:20231221T112522
UID:273689@https://singpromos.com
SUMMARY:Giant S'pore selling Haagen Dazs ice cream pints at S$8.33 each when you buy three till 27 Dec 2023
DESCRIPTION:Time to stock up on Haagen Dazs ice cream. For more information, visit [ https://singpromos.com/dining-restaurants-food/giant-spore-selling-haagen-dazs-ice-cream-pints-at-s8-33-each-when-you-buy-three-till-27-dec-2023-273689/ ]. 
LOCATION:
URL:https://singpromos.com/dining-restaurants-food/giant-spore-selling-haagen-dazs-ice-cream-pints-at-s8-33-each-when-you-buy-three-till-27-dec-2023-273689/
END:VEVENT
END:VCALENDAR