BEGIN:VCALENDAR
PRODID:-//SINGPromos.com//NONSGML v1.0//EN
VERSION:2.0
CALSCALE:GREGORIAN
METHOD:PUBLISH
X-WR-CALNAME:SINGPromos.com
X-ORIGINAL-URL:https://singpromos.com
X-WR-CALDESC:Events for SINGPromos.com
BEGIN:VEVENT
DTSTART:20240101T000000
DTEND:20240209T235900
DTSTAMP:20260424T020741
CREATED:20240101T113312
LAST-MODIFIED:20240101T113726
UID:273929@https://singpromos.com
SUMMARY:Giant S'pore giving free $10 OFF $100 CNY voucher when you spend a min. $100 till 9 Feb 2024
DESCRIPTION:More value at Giant. For more information, visit [ https://singpromos.com/department-stores/giant-spore-giving-free-10-off-100-cny-voucher-when-you-spend-a-min-100-till-9-feb-2024-273929/ ]. 
LOCATION:
URL:https://singpromos.com/department-stores/giant-spore-giving-free-10-off-100-cny-voucher-when-you-spend-a-min-100-till-9-feb-2024-273929/
END:VEVENT
END:VCALENDAR