BEGIN:VCALENDAR
PRODID:-//SINGPromos.com//NONSGML v1.0//EN
VERSION:2.0
CALSCALE:GREGORIAN
METHOD:PUBLISH
X-WR-CALNAME:SINGPromos.com
X-ORIGINAL-URL:https://singpromos.com
X-WR-CALDESC:Events for SINGPromos.com
BEGIN:VEVENT
DTSTART:20120313T000000
DTEND:20120325T235900
DTSTAMP:20260420T032141
CREATED:20120310T171720
LAST-MODIFIED:20120312T172742
UID:27393@https://singpromos.com
SUMMARY:Warehouse, Karen Millen & MaxStudio.Com Dressing Salon Sale 13 - 25 Mar 2012
DESCRIPTION:Warehouse, Karen Millen & MaxStudio.Com are collectively having a Dressing Salon sale from 13 March to 25 March 2012 at Wing Tai Industrial Centre, 105 Tampines Road, 12pm to 7pm. For more information, visit [ https://singpromos.com/fashion-accessories/warehouse-karen-millen-maxstudio-com-dressing-salon-sale-13-25-mar-2012-27393/ ]. 
LOCATION:105 Tampines Road
URL:https://singpromos.com/fashion-accessories/warehouse-karen-millen-maxstudio-com-dressing-salon-sale-13-25-mar-2012-27393/
END:VEVENT
END:VCALENDAR