BEGIN:VCALENDAR
PRODID:-//SINGPromos.com//NONSGML v1.0//EN
VERSION:2.0
CALSCALE:GREGORIAN
METHOD:PUBLISH
X-WR-CALNAME:SINGPromos.com
X-ORIGINAL-URL:https://singpromos.com
X-WR-CALDESC:Events for SINGPromos.com
BEGIN:VEVENT
DTSTART:20240101T000000
DTEND:20240131T235900
DTSTAMP:20260420T015834
CREATED:20240101T131436
LAST-MODIFIED:20240101T131551
UID:273936@https://singpromos.com
SUMMARY:S$2 off $15 spend at Coffee Bean & Tea Leaf S'pore outlets with DBS/POSB cards till 31 Jan 2024
DESCRIPTION:Valid at most outlets. For more information, visit [ https://singpromos.com/dining-restaurants-food/s2-off-15-spend-at-coffee-bean-tea-leaf-spore-outlets-with-dbs-posb-cards-till-31-jan-2024-273936/ ]. 
LOCATION:
URL:https://singpromos.com/dining-restaurants-food/s2-off-15-spend-at-coffee-bean-tea-leaf-spore-outlets-with-dbs-posb-cards-till-31-jan-2024-273936/
END:VEVENT
END:VCALENDAR