BEGIN:VCALENDAR
PRODID:-//SINGPromos.com//NONSGML v1.0//EN
VERSION:2.0
CALSCALE:GREGORIAN
METHOD:PUBLISH
X-WR-CALNAME:SINGPromos.com
X-ORIGINAL-URL:https://singpromos.com
X-WR-CALDESC:Events for SINGPromos.com
BEGIN:VEVENT
DTSTART:20120310T000000
DTEND:20120316T235900
DTSTAMP:20260420T015722
CREATED:20120310T191541
LAST-MODIFIED:20120312T191849
UID:27415@https://singpromos.com
SUMMARY:Courts Big Brand Sale Promotion 10 - 16 Mar 2012
DESCRIPTION:Courts is now smashing prices on big brands with the new Courts Big Brand Sale.. For more information, visit [ https://singpromos.com/computers-pc/courts-big-brand-sale-promotion-10-16-mar-2012-27415/ ]. 
LOCATION:
URL:https://singpromos.com/computers-pc/courts-big-brand-sale-promotion-10-16-mar-2012-27415/
END:VEVENT
END:VCALENDAR