BEGIN:VCALENDAR
PRODID:-//SINGPromos.com//NONSGML v1.0//EN
VERSION:2.0
CALSCALE:GREGORIAN
METHOD:PUBLISH
X-WR-CALNAME:SINGPromos.com
X-ORIGINAL-URL:https://singpromos.com
X-WR-CALDESC:Events for SINGPromos.com
BEGIN:VEVENT
DTSTART:20240124T000000
DTEND:20240125T235900
DTSTAMP:20260424T020742
CREATED:20240124T120558
LAST-MODIFIED:20240124T120558
UID:274807@https://singpromos.com
SUMMARY:Giant 2-day deals featuring New Moon Abalone, Fuji Apples, Songhe rice and more till 25 Jan 2024
DESCRIPTION:Save up to 41% on Fuji apples, Songhe rice, New Moon Abalone and more. For more information, visit [ https://singpromos.com/dining-restaurants-food/giant-2-day-deals-featuring-new-moon-abalone-fuji-apples-songhe-rice-and-more-till-25-jan-2024-274807/ ]. 
LOCATION:
URL:https://singpromos.com/dining-restaurants-food/giant-2-day-deals-featuring-new-moon-abalone-fuji-apples-songhe-rice-and-more-till-25-jan-2024-274807/
END:VEVENT
END:VCALENDAR