BEGIN:VCALENDAR
PRODID:-//SINGPromos.com//NONSGML v1.0//EN
VERSION:2.0
CALSCALE:GREGORIAN
METHOD:PUBLISH
X-WR-CALNAME:SINGPromos.com
X-ORIGINAL-URL:https://singpromos.com
X-WR-CALDESC:Events for SINGPromos.com
BEGIN:VEVENT
DTSTART:20240127T000000
DTEND:20240128T235900
DTSTAMP:20260420T042559
CREATED:20240127T133411
LAST-MODIFIED:20240127T142622
UID:274979@https://singpromos.com
SUMMARY:Giant Tampines Hypermarket $1.99/100g Live Tiger Prawn Sale till 28 Jan 2024
DESCRIPTION:Shrimply amazing price. For more information, visit [ https://singpromos.com/dining-restaurants-food/giant-tampines-hypermarket-1-99-100g-live-tiger-prawn-sale-till-28-jan-2024-274979/ ]. 
LOCATION:528765
URL:https://singpromos.com/dining-restaurants-food/giant-tampines-hypermarket-1-99-100g-live-tiger-prawn-sale-till-28-jan-2024-274979/
END:VEVENT
END:VCALENDAR