BEGIN:VCALENDAR
PRODID:-//SINGPromos.com//NONSGML v1.0//EN
VERSION:2.0
CALSCALE:GREGORIAN
METHOD:PUBLISH
X-WR-CALNAME:SINGPromos.com
X-ORIGINAL-URL:https://singpromos.com
X-WR-CALDESC:Events for SINGPromos.com
BEGIN:VEVENT
DTSTART:20240131T000000
DTEND:20240221T235900
DTSTAMP:20260420T030233
CREATED:20240131T172629
LAST-MODIFIED:20240131T190219
UID:275101@https://singpromos.com
SUMMARY:Singapore Airlines latest promo has fares fr S$168 to over 55 destinations till 21 Feb for travel up to Nov 2024
DESCRIPTION:For travel up to Nov 2024. For more information, visit [ https://singpromos.com/airlines-flights/singapore-airlines-latest-promo-has-fares-fr-s168-to-over-55-destinations-till-21-feb-for-travel-up-to-nov-2024-275101/ ]. 
LOCATION:
URL:https://singpromos.com/airlines-flights/singapore-airlines-latest-promo-has-fares-fr-s168-to-over-55-destinations-till-21-feb-for-travel-up-to-nov-2024-275101/
END:VEVENT
END:VCALENDAR