BEGIN:VCALENDAR
PRODID:-//SINGPromos.com//NONSGML v1.0//EN
VERSION:2.0
CALSCALE:GREGORIAN
METHOD:PUBLISH
X-WR-CALNAME:SINGPromos.com
X-ORIGINAL-URL:https://singpromos.com
X-WR-CALDESC:Events for SINGPromos.com
BEGIN:VEVENT
DTSTART:20240302T000000
DTEND:20240721T235900
DTSTAMP:20260420T074445
CREATED:20240301T112220
LAST-MODIFIED:20240301T014800
UID:275702@https://singpromos.com
SUMMARY:Goodwood Park Hotel's Durian Fiesta 2024 to return from 2 March - 21 July 2024
DESCRIPTION:The king of fruits returns again for its 41st installment. For more information, visit [ https://singpromos.com/dining-restaurants-food/goodwood-park-hotels-durian-fiesta-2024-to-return-from-2-march-21-july-2024-275702/ ]. 
LOCATION:228221
URL:https://singpromos.com/dining-restaurants-food/goodwood-park-hotels-durian-fiesta-2024-to-return-from-2-march-21-july-2024-275702/
END:VEVENT
END:VCALENDAR