BEGIN:VCALENDAR
PRODID:-//SINGPromos.com//NONSGML v1.0//EN
VERSION:2.0
CALSCALE:GREGORIAN
METHOD:PUBLISH
X-WR-CALNAME:SINGPromos.com
X-ORIGINAL-URL:https://singpromos.com
X-WR-CALDESC:Events for SINGPromos.com
BEGIN:VEVENT
DTSTART:20240302T000000
DTEND:20240310T235900
DTSTAMP:20260422T081617
CREATED:20240301T174706
LAST-MODIFIED:20240228T175347
UID:275894@https://singpromos.com
SUMMARY:My Home Grand Furniture & Reno Expo 2024 from 2 - 10 Mar 2024
DESCRIPTION:Popular home show My Home is back. For more information, visit [ https://singpromos.com/happenings/my-home-grand-furniture-reno-expo-2024-from-2-10-mar-2024-275894/ ]. 
LOCATION:486150
URL:https://singpromos.com/happenings/my-home-grand-furniture-reno-expo-2024-from-2-10-mar-2024-275894/
END:VEVENT
END:VCALENDAR