BEGIN:VCALENDAR
PRODID:-//SINGPromos.com//NONSGML v1.0//EN
VERSION:2.0
CALSCALE:GREGORIAN
METHOD:PUBLISH
X-WR-CALNAME:SINGPromos.com
X-ORIGINAL-URL:https://singpromos.com
X-WR-CALDESC:Events for SINGPromos.com
BEGIN:VEVENT
DTSTART:20240311T000000
DTEND:20240331T235900
DTSTAMP:20260422T082143
CREATED:20240311T071740
LAST-MODIFIED:20240311T012348
UID:276259@https://singpromos.com
SUMMARY:MARIGOLD HL Milk buy 2x 946ml or 1x 2L and get a free Mickey and Friends cooler bag till 31 March 2024
DESCRIPTION:Take home one of these 5 adorable Mickey and Friends cooler bags. For more information, visit [ https://singpromos.com/dining-restaurants-food/marigold-hl-milk-buy-2x-946ml-or-1x-2l-and-get-a-free-mickey-and-friends-cooler-bag-till-31-march-2024-276259/ ]. 
LOCATION:
URL:https://singpromos.com/dining-restaurants-food/marigold-hl-milk-buy-2x-946ml-or-1x-2l-and-get-a-free-mickey-and-friends-cooler-bag-till-31-march-2024-276259/
END:VEVENT
END:VCALENDAR