BEGIN:VCALENDAR
PRODID:-//SINGPromos.com//NONSGML v1.0//EN
VERSION:2.0
CALSCALE:GREGORIAN
METHOD:PUBLISH
X-WR-CALNAME:SINGPromos.com
X-ORIGINAL-URL:https://singpromos.com
X-WR-CALDESC:Events for SINGPromos.com
BEGIN:VEVENT
DTSTART:20240319T000000
DTEND:20240325T235900
DTSTAMP:20260422T073917
CREATED:20240319T140453
LAST-MODIFIED:20240319T154534
UID:276582@https://singpromos.com
SUMMARY:Scoot S'pore latest sale offers fares from S$70 to over 60 destinations till 25 Mar, travel up to Mar 2025
DESCRIPTION:From iconic landmarks and captivating museums to a buzzing nightlife and bustling shopping belts. For more information, visit [ https://singpromos.com/airlines-flights/scoot-spore-latest-sale-offers-fares-from-s70-to-over-60-destinations-till-25-mar-travel-up-to-mar-2025-276582/ ]. 
LOCATION:
URL:https://singpromos.com/airlines-flights/scoot-spore-latest-sale-offers-fares-from-s70-to-over-60-destinations-till-25-mar-travel-up-to-mar-2025-276582/
END:VEVENT
END:VCALENDAR