BEGIN:VCALENDAR
PRODID:-//SINGPromos.com//NONSGML v1.0//EN
VERSION:2.0
CALSCALE:GREGORIAN
METHOD:PUBLISH
X-WR-CALNAME:SINGPromos.com
X-ORIGINAL-URL:https://singpromos.com
X-WR-CALDESC:Events for SINGPromos.com
BEGIN:VEVENT
DTSTART:20120316T000000
DTEND:20120318T235900
DTSTAMP:20260422T082127
CREATED:20120316T174619
LAST-MODIFIED:20120318T132353
UID:27715@https://singpromos.com
SUMMARY:Audio House TV, Digital Cameras, Notebooks & Appliances Offers 16 - 18 Mar 2012
DESCRIPTION:Audio House is having a show over-stock clearance till 18 March 2012. Free 10" netbook worth $599 with every purchase of advertised 3D or Smart TV. For more information, visit [ https://singpromos.com/computers-pc/audio-house-tv-digital-cameras-notebooks-appliances-offers-16-18-mar-2012-27715/ ]. 
LOCATION:
URL:https://singpromos.com/computers-pc/audio-house-tv-digital-cameras-notebooks-appliances-offers-16-18-mar-2012-27715/
END:VEVENT
END:VCALENDAR