BEGIN:VCALENDAR
PRODID:-//SINGPromos.com//NONSGML v1.0//EN
VERSION:2.0
CALSCALE:GREGORIAN
METHOD:PUBLISH
X-WR-CALNAME:SINGPromos.com
X-ORIGINAL-URL:https://singpromos.com
X-WR-CALDESC:Events for SINGPromos.com
BEGIN:VEVENT
DTSTART:20240405T000000
DTEND:20240407T235900
DTSTAMP:20260422T082136
CREATED:20240405T181309
LAST-MODIFIED:20240405T181309
UID:277232@https://singpromos.com
SUMMARY:Timezone Double Deals: Score 100% Extra Game Credits from 5 to 7 April 2024
DESCRIPTION:Timezone's Double Deals promotion offers a 100% bonus on game credits. For more information, visit [ https://singpromos.com/places-of-interest/timezone-double-deals-score-100-extra-game-credits-from-5-to-7-april-2024-277232/ ]. 
LOCATION:
URL:https://singpromos.com/places-of-interest/timezone-double-deals-score-100-extra-game-credits-from-5-to-7-april-2024-277232/
END:VEVENT
END:VCALENDAR