BEGIN:VCALENDAR
PRODID:-//SINGPromos.com//NONSGML v1.0//EN
VERSION:2.0
CALSCALE:GREGORIAN
METHOD:PUBLISH
X-WR-CALNAME:SINGPromos.com
X-ORIGINAL-URL:https://singpromos.com
X-WR-CALDESC:Events for SINGPromos.com
BEGIN:VEVENT
DTSTART:20240408T000000
DTEND:20240430T235900
DTSTAMP:20260422T040131
CREATED:20240408T160441
LAST-MODIFIED:20240408T160938
UID:277329@https://singpromos.com
SUMMARY:Ben's Cookies S'pore Offers 20% discount on large tins for Hari Raya till 30 Apr 2024
DESCRIPTION:Celebrate Hari Raya with a Sweet Discount from Ben's Cookies. For more information, visit [ https://singpromos.com/dining-restaurants-food/bens-cookies-spore-offers-20-discount-on-large-tins-for-hari-raya-till-30-apr-2024-277329/ ]. 
LOCATION:
URL:https://singpromos.com/dining-restaurants-food/bens-cookies-spore-offers-20-discount-on-large-tins-for-hari-raya-till-30-apr-2024-277329/
END:VEVENT
END:VCALENDAR