BEGIN:VCALENDAR
PRODID:-//SINGPromos.com//NONSGML v1.0//EN
VERSION:2.0
CALSCALE:GREGORIAN
METHOD:PUBLISH
X-WR-CALNAME:SINGPromos.com
X-ORIGINAL-URL:https://singpromos.com
X-WR-CALDESC:Events for SINGPromos.com
BEGIN:VEVENT
DTSTART:20240409T000000
DTEND:20240409T235900
DTSTAMP:20260422T073931
CREATED:20240409T130126
LAST-MODIFIED:20240409T130248
UID:277350@https://singpromos.com
SUMMARY:Scoot's 8-Hour Flash Sale: Fly from S$70 to Over 30 Destinations (Ends 9 Apr 2024 8pm)
DESCRIPTION:Scoot offers promotional fares starting from S$70 to over 35 destinations, valid until 9 April 8 PM, for travel up to July 2024.. For more information, visit [ https://singpromos.com/airlines-flights/scoots-8-hour-flash-sale-fly-from-s70-to-over-30-destinations-ends-9-apr-2024-8pm-277350/ ]. 
LOCATION:
URL:https://singpromos.com/airlines-flights/scoots-8-hour-flash-sale-fly-from-s70-to-over-30-destinations-ends-9-apr-2024-8pm-277350/
END:VEVENT
END:VCALENDAR