BEGIN:VCALENDAR
PRODID:-//SINGPromos.com//NONSGML v1.0//EN
VERSION:2.0
CALSCALE:GREGORIAN
METHOD:PUBLISH
X-WR-CALNAME:SINGPromos.com
X-ORIGINAL-URL:https://singpromos.com
X-WR-CALDESC:Events for SINGPromos.com
BEGIN:VEVENT
DTSTART:20240411T000000
DTEND:20240417T235900
DTSTAMP:20260420T192516
CREATED:20240411T133541
LAST-MODIFIED:20240411T161438
UID:277398@https://singpromos.com
SUMMARY:Indulge in Ben & Jerry's for Just S$10.45 each at Cold Storage when you buy two till 17 April 2024
DESCRIPTION:Cold Storage offers a sweet deal on Ben & Jerry's ice cream tubs, available both in-store and online.. For more information, visit [ https://singpromos.com/dining-restaurants-food/indulge-in-ben-jerrys-for-just-s10-45-at-cold-storage-when-you-buy-two-till-17-april-2024-277398/ ]. 
LOCATION:
URL:https://singpromos.com/dining-restaurants-food/indulge-in-ben-jerrys-for-just-s10-45-at-cold-storage-when-you-buy-two-till-17-april-2024-277398/
END:VEVENT
END:VCALENDAR