BEGIN:VCALENDAR
PRODID:-//SINGPromos.com//NONSGML v1.0//EN
VERSION:2.0
CALSCALE:GREGORIAN
METHOD:PUBLISH
X-WR-CALNAME:SINGPromos.com
X-ORIGINAL-URL:https://singpromos.com
X-WR-CALDESC:Events for SINGPromos.com
BEGIN:VEVENT
DTSTART:20240413T000000
DTEND:20240414T235900
DTSTAMP:20260422T082317
CREATED:20240412T141202
LAST-MODIFIED:20240412T141202
UID:277427@https://singpromos.com
SUMMARY:Timezone's Spectacular Bonus Bonanza: Double Your Credits from 13 - 14 April 2024
DESCRIPTION:Timezone Singapore's two-day event offers customers double game credits.. For more information, visit [ https://singpromos.com/places-of-interest/timezones-spectacular-bonus-bonanza-double-your-credits-from-13-14-april-2024-277427/ ]. 
LOCATION:
URL:https://singpromos.com/places-of-interest/timezones-spectacular-bonus-bonanza-double-your-credits-from-13-14-april-2024-277427/
END:VEVENT
END:VCALENDAR