BEGIN:VCALENDAR
PRODID:-//SINGPromos.com//NONSGML v1.0//EN
VERSION:2.0
CALSCALE:GREGORIAN
METHOD:PUBLISH
X-WR-CALNAME:SINGPromos.com
X-ORIGINAL-URL:https://singpromos.com
X-WR-CALDESC:Events for SINGPromos.com
BEGIN:VEVENT
DTSTART:20240429T000000
DTEND:20240524T235900
DTSTAMP:20260420T045108
CREATED:20240429T201832
LAST-MODIFIED:20240618T130531
UID:277927@https://singpromos.com
SUMMARY:Singapore Airlines New Promo Fares From S$178 All-in Return To Over 60 Destinations Till 24 May 2024
DESCRIPTION:Valid until 24 May for travel up to February 2025.. For more information, visit [ https://singpromos.com/airlines-flights/singapore-airlines-new-promo-fares-from-s178-all-in-return-to-over-60-destinations-till-24-may-2024-277927/ ]. 
LOCATION:
URL:https://singpromos.com/airlines-flights/singapore-airlines-new-promo-fares-from-s178-all-in-return-to-over-60-destinations-till-24-may-2024-277927/
END:VEVENT
END:VCALENDAR