BEGIN:VCALENDAR
PRODID:-//SINGPromos.com//NONSGML v1.0//EN
VERSION:2.0
CALSCALE:GREGORIAN
METHOD:PUBLISH
X-WR-CALNAME:SINGPromos.com
X-ORIGINAL-URL:https://singpromos.com
X-WR-CALDESC:Events for SINGPromos.com
BEGIN:VEVENT
DTSTART:20240516T000000
DTEND:20240522T235900
DTSTAMP:20260420T003217
CREATED:20240516T020236
LAST-MODIFIED:20240516T130515
UID:278398@https://singpromos.com
SUMMARY:McDonald's and foodpanda Offer 1-for-1 McSpicy, McWings, McNuggets & More from 16 - 22 May
DESCRIPTION:Exclusive McDonald's 1-for-1 Deals via foodpanda for a limited time. For more information, visit [ https://singpromos.com/dining-restaurants-food/mcdonalds-and-foodpanda-offer-1-for-1-mcspicy-mcwings-mcnuggets-from-16-22-may-278398/ ]. 
LOCATION:
URL:https://singpromos.com/dining-restaurants-food/mcdonalds-and-foodpanda-offer-1-for-1-mcspicy-mcwings-mcnuggets-from-16-22-may-278398/
END:VEVENT
END:VCALENDAR