BEGIN:VCALENDAR
PRODID:-//SINGPromos.com//NONSGML v1.0//EN
VERSION:2.0
CALSCALE:GREGORIAN
METHOD:PUBLISH
X-WR-CALNAME:SINGPromos.com
X-ORIGINAL-URL:https://singpromos.com
X-WR-CALDESC:Events for SINGPromos.com
BEGIN:VEVENT
DTSTART:20240523T000000
DTEND:20240526T235900
DTSTAMP:20260422T082236
CREATED:20240522T021818
LAST-MODIFIED:20240523T155628
UID:278608@https://singpromos.com
SUMMARY:Consumer Electronic Exhibition (CEE 2024) at Suntec from 23 - 26 May 2024
DESCRIPTION:The perfect opportunity to explore cutting-edge gadgets and smart-home essentials. For more information, visit [ https://singpromos.com/warehouse-sales/consumer-electronic-exhibition-cee-2024-at-suntec-from-23-26-may-2024-278608/ ]. 
LOCATION:039593
URL:https://singpromos.com/warehouse-sales/consumer-electronic-exhibition-cee-2024-at-suntec-from-23-26-may-2024-278608/
END:VEVENT
END:VCALENDAR